BEGIN:VCALENDAR
VERSION:2.0
PRODID:-//wp-events-plugin.com//7.2.3.1//EN
TZID:Europe/Paris
X-WR-TIMEZONE:Europe/Paris
BEGIN:VEVENT
UID:39@bstbmx.fr
DTSTART;TZID=Europe/Paris:20250906T140000
DTEND;TZID=Europe/Paris:20250906T150000
DTSTAMP:20250831T171236Z
URL:https://bstbmx.fr/events/essais-du-6-septembre-2025-14h-15h-2025/
SUMMARY:Essais du 6 septembre 2025 14h-15h
DESCRIPTION:Merci de préciser l'âge et la taille du pilote
CATEGORIES:Essai
END:VEVENT
BEGIN:VTIMEZONE
TZID:Europe/Paris
X-LIC-LOCATION:Europe/Paris
BEGIN:DAYLIGHT
DTSTART:20250330T030000
TZOFFSETFROM:+0100
TZOFFSETTO:+0200
TZNAME:CEST
END:DAYLIGHT
END:VTIMEZONE
END:VCALENDAR